BEGIN:VCALENDAR
VERSION:2.0
PRODID:-//Department of Mechanical &amp; Industrial Engineering - ECPv6.15.20//NONSGML v1.0//EN
CALSCALE:GREGORIAN
METHOD:PUBLISH
X-WR-CALNAME:Department of Mechanical &amp; Industrial Engineering
X-ORIGINAL-URL:https://mie.northeastern.edu
X-WR-CALDESC:Events for Department of Mechanical &amp; Industrial Engineering
REFRESH-INTERVAL;VALUE=DURATION:PT1H
X-Robots-Tag:noindex
X-PUBLISHED-TTL:PT1H
BEGIN:VTIMEZONE
TZID:America/New_York
BEGIN:DAYLIGHT
TZOFFSETFROM:-0500
TZOFFSETTO:-0400
TZNAME:EDT
DTSTART:20220313T070000
END:DAYLIGHT
BEGIN:STANDARD
TZOFFSETFROM:-0400
TZOFFSETTO:-0500
TZNAME:EST
DTSTART:20221106T060000
END:STANDARD
BEGIN:DAYLIGHT
TZOFFSETFROM:-0500
TZOFFSETTO:-0400
TZNAME:EDT
DTSTART:20230312T070000
END:DAYLIGHT
BEGIN:STANDARD
TZOFFSETFROM:-0400
TZOFFSETTO:-0500
TZNAME:EST
DTSTART:20231105T060000
END:STANDARD
BEGIN:DAYLIGHT
TZOFFSETFROM:-0500
TZOFFSETTO:-0400
TZNAME:EDT
DTSTART:20240310T070000
END:DAYLIGHT
BEGIN:STANDARD
TZOFFSETFROM:-0400
TZOFFSETTO:-0500
TZNAME:EST
DTSTART:20241103T060000
END:STANDARD
END:VTIMEZONE
BEGIN:VEVENT
DTSTART;TZID=America/New_York:20230406T180000
DTEND;TZID=America/New_York:20230406T190000
DTSTAMP:20260425T063543
CREATED:20230330T212406Z
LAST-MODIFIED:20230330T212406Z
UID:6042-1680804000-1680807600@mie.northeastern.edu
SUMMARY:Galante Program Info Session
DESCRIPTION:Join the Galante Engineering Business program for an info session event and learn how you can complement your technical engineering education with business acumen and leadership skill development. \nPlusOne engineering students who enroll in Galante will graduate with an Engineering Business Certificate along with BS and MS degrees\, all without taking any additional coursework. Skills in communications\, public speaking\, leadership\, networking\, and more are also developed via programmatic elements such as leadership roles\, seminars\, workshops\, and corporate events\, among others. \nThere are also multiple exclusive scholarships on offer each year and a guaranteed $1\,000 professional training grant for each student. Galante Fellows are encouraged to network among one another – especially via a mentorship program – and numerous full-time and co-op professional opportunities have been offered to members via a strong alumni network and Industry Networking Council. \nThis event will take place on Thursday April 6th from 6-7pm in Egan Research Center room 440 in a casual setting with pizza provided. This event is a great opportunity to meet current Galante Fellows\, each of whom is dedicated to sharing an overview of a particular component of the program. To register your interest and attend this event\, please complete the survey linked here. If you are interested in learning more yet unable to attend this event\, please consider scheduling an introductory and overview appointment with the program administrators via the Calendly link here. You can also learn more by visiting our webpage here and contacting the program administrators Professor Mohammad Dehghani (m.dehghani@northeastern.edu) or Bradley Miller (b.miller@northeastern.edu) with any questions.
URL:https://mie.northeastern.edu/event/galante-program-info-session/
LOCATION:440 Egan\, 360 Huntington Ave\, Boston\, MA\, 02115\, United States
GEO:42.3396156;-71.0886534
X-APPLE-STRUCTURED-LOCATION;VALUE=URI;X-ADDRESS=440 Egan 360 Huntington Ave Boston MA 02115 United States;X-APPLE-RADIUS=500;X-TITLE=360 Huntington Ave:geo:-71.0886534,42.3396156
END:VEVENT
END:VCALENDAR